BEGIN:VCALENDAR
VERSION:2.0
PRODID:-//wp-events-plugin.com//7.2.3.1//EN
TZID:America/New_York
X-WR-TIMEZONE:America/New_York
BEGIN:VEVENT
UID:118@lakeviewadventist.com
DTSTART:20241215T103000Z
DTEND:20241215T140000Z
DTSTAMP:20241106T000744Z
URL:https://lakeviewadventist.com/events/year-end-board-meeting-attendance
 -mandatory-starting-at-1030am/
SUMMARY:Year-End Board Meeting Attendance Mandatory  starting at 10:30am
DESCRIPTION:Mandatory representation of all church Ministries (Except for e
 mergencies). In preparation for this meeting\, each ministry will email th
 eir  2025 ministry plans to donnievalw@gccsda.com no later than Tuesday\,
  December 10th at 11:59 pm.
CATEGORIES:Corporate Worship
END:VEVENT
END:VCALENDAR