BEGIN:VCALENDAR
VERSION:2.0
PRODID:-//wp-events-plugin.com//7.2.3.1//EN
TZID:America/New_York
X-WR-TIMEZONE:America/New_York
BEGIN:VEVENT
UID:161@lakeviewadventist.com
DTSTART:20250412T110000Z
DTEND:20250412T123000Z
DTSTAMP:20250327T222301Z
URL:https://lakeviewadventist.com/events/sabbath-speaker-tbd/
SUMMARY:Children's Sabbath
DESCRIPTION:
CATEGORIES:Corporate Worship
END:VEVENT
END:VCALENDAR