BEGIN:VCALENDAR
VERSION:2.0
PRODID:-//wp-events-plugin.com//7.2.3.1//EN
TZID:America/New_York
X-WR-TIMEZONE:America/New_York
BEGIN:VEVENT
UID:121@lakeviewadventist.com
DTSTART:20241116T110000Z
DTEND:20241116T123000Z
DTSTAMP:20241113T012218Z
URL:https://lakeviewadventist.com/events/sabbath-divine-worship-speaker-ar
 lene-mccoy/
SUMMARY:Sabbath Divine Worship Speaker : Elder Arlene McCoy
DESCRIPTION:
CATEGORIES:Corporate Worship
END:VEVENT
END:VCALENDAR