BEGIN:VCALENDAR
VERSION:2.0
PRODID:-//wp-events-plugin.com//7.2.3.1//EN
TZID:America/New_York
X-WR-TIMEZONE:America/New_York
BEGIN:VEVENT
UID:162@lakeviewadventist.com
DTSTART:20250426T110000Z
DTEND:20250426T123000Z
DTSTAMP:20250320T220332Z
URL:https://lakeviewadventist.com/events/health-focus-sabbath/
SUMMARY:Health Focus Sabbath
DESCRIPTION:
CATEGORIES:Corporate Worship
END:VEVENT
END:VCALENDAR