BEGIN:VCALENDAR
VERSION:2.0
PRODID:-//wp-events-plugin.com//7.2.3.1//EN
TZID:America/New_York
X-WR-TIMEZONE:America/New_York
BEGIN:VEVENT
UID:44@lakeviewadventist.com
DTSTART:20231209T110000Z
DTEND:20231209T120000Z
DTSTAMP:20231128T230639Z
URL:https://lakeviewadventist.com/events/christmas-musical-the-heart-of-ch
 ristmas/
SUMMARY:Christmas Musical "The Heart of Christmas"
DESCRIPTION:
ATTACH;FMTTYPE=image/jpeg:https://lakeviewadventist.com/wp-content/uploads
 /2023/11/Christmas-Concert-Flyer.jpg
CATEGORIES:Community Service,Corporate Worship,Our News,Our News
LOCATION:Lakeview SDA Church\, 4001 Macedonia Road\, Powder Springs\, GA\, 
 30127\, United States
X-APPLE-STRUCTURED-LOCATION;VALUE=URI;X-ADDRESS=4001 Macedonia Road\, Powde
 r Springs\, GA\, 30127\, United States;X-APPLE-RADIUS=100;X-TITLE=Lakeview
  SDA Church:geo:0,0
END:VEVENT
END:VCALENDAR