BEGIN:VCALENDAR
VERSION:2.0
PRODID:-//wp-events-plugin.com//7.2.3.1//EN
TZID:America/New_York
X-WR-TIMEZONE:America/New_York
BEGIN:VEVENT
UID:117@lakeviewadventist.com
DTSTART:20241119T190000Z
DTEND:20241119T200000Z
DTSTAMP:20241106T000006Z
URL:https://lakeviewadventist.com/events/board-meeting-via-zoom/
SUMMARY:Board Meeting via Zoom
DESCRIPTION:
CATEGORIES:Corporate Worship
END:VEVENT
END:VCALENDAR